BEGIN:VCALENDAR
VERSION:2.0
PRODID:-//Trilith Institute - ECPv6.14.1//NONSGML v1.0//EN
CALSCALE:GREGORIAN
METHOD:PUBLISH
X-ORIGINAL-URL:https://trilithinstitute.org
X-WR-CALDESC:Events for Trilith Institute
REFRESH-INTERVAL;VALUE=DURATION:PT1H
X-Robots-Tag:noindex
X-PUBLISHED-TTL:PT1H
BEGIN:VTIMEZONE
TZID:America/New_York
BEGIN:DAYLIGHT
TZOFFSETFROM:-0500
TZOFFSETTO:-0400
TZNAME:EDT
DTSTART:20260308T070000
END:DAYLIGHT
BEGIN:STANDARD
TZOFFSETFROM:-0400
TZOFFSETTO:-0500
TZNAME:EST
DTSTART:20261101T060000
END:STANDARD
END:VTIMEZONE
BEGIN:VEVENT
DTSTART;TZID=America/New_York:20260207T090000
DTEND;TZID=America/New_York:20260207T160000
DTSTAMP:20260420T180409
CREATED:20251024T202620Z
LAST-MODIFIED:20260123T201608Z
UID:6973-1770454800-1770480000@trilithinstitute.org
SUMMARY:Post-Production Workshop
DESCRIPTION:In this hands-on\, one-day workshop\, you’ll dive into the art of film editing using real footage from two short films created during our film camp for adults. You will explore the fundamentals of post-production — including pacing\, tone\, and storytelling through editing — then create your own unique version of at least one of the films. No matter your experience level\, this is your chance to experiment\, collaborate\, and discover the power of storytelling in the edit room. \n*Attendees will have the opportunity to take footage home if project is incomplete or for additional practice.
URL:https://trilithinstitute.org/event/post-production-workshop/
CATEGORIES:Adult Workshop
END:VEVENT
END:VCALENDAR