BEGIN:VCALENDAR
VERSION:2.0
PRODID:-//Trilith Institute - ECPv6.14.1//NONSGML v1.0//EN
CALSCALE:GREGORIAN
METHOD:PUBLISH
X-ORIGINAL-URL:https://trilithinstitute.org
X-WR-CALDESC:Events for Trilith Institute
REFRESH-INTERVAL;VALUE=DURATION:PT1H
X-Robots-Tag:noindex
X-PUBLISHED-TTL:PT1H
BEGIN:VTIMEZONE
TZID:America/New_York
BEGIN:DAYLIGHT
TZOFFSETFROM:-0500
TZOFFSETTO:-0400
TZNAME:EDT
DTSTART:20260308T070000
END:DAYLIGHT
BEGIN:STANDARD
TZOFFSETFROM:-0400
TZOFFSETTO:-0500
TZNAME:EST
DTSTART:20261101T060000
END:STANDARD
END:VTIMEZONE
BEGIN:VEVENT
DTSTART;VALUE=DATE:20260602
DTEND;VALUE=DATE:20260722
DTSTAMP:20260420T211726
CREATED:20260408T182857Z
LAST-MODIFIED:20260408T201409Z
UID:8645-1780358400-1784678399@trilithinstitute.org
SUMMARY:Locations 101
DESCRIPTION:When: Tuesdays from 5:30-8:30 PM\, June 2nd – July 21st \nIn this course\, students will gain an in-depth understanding of the role of the locations department in the overall production for film and television\, from script breakdown during pre-production to scouting\, contracting\, logistical planning and wrap out. Students will also learn about the various job opportunities within the locations department\, as well as the role and importance of each. Based on knowledge gained\, students will be able to pursue entry-level positions with a top tier locations team. By integrating both theoretical knowledge and hands-on tasks\, students will acquire the necessary skills to confidently navigate the intricacies of the job market and commence their careers in the entertainment industry with a strong sense of professionalism. \nPlease note\, students do have graded assignments\, assessments\, and projects and will receive a final grade in this course. Grades demonstrate a student’s ability to apply their understanding and mastery of concepts taught in this course. Trilith Institute instructors have a wealth of knowledge as they come with expertise in the film and entertainment industry \nCourse Note: No Prerequisite Required. \nWHAT WILL YOU WALK AWAY WITH\n\nA comprehensive understanding of the skills needed to succeed in the entertainment industry as a member of the locations team.\nEligibility to apply for Trilith Institute’s Creative Excellence Fellowship Grant.*\n15% off Trilith Institute workshops for 6 months after course enrollment.\nA tour of Trilith Studios!
URL:https://trilithinstitute.org/event/locations-101-2/
LOCATION:Trilith Studios Production Centre\, 461 Sandy Creek Rd\, Fayetteville\, GA\, 30214\, United States
CATEGORIES:8 Week Course,Adult Course,Homepage,In Person,Professional Education,Summer 2026
END:VEVENT
BEGIN:VEVENT
DTSTART;VALUE=DATE:20260603
DTEND;VALUE=DATE:20260723
DTSTAMP:20260420T211726
CREATED:20260408T190603Z
LAST-MODIFIED:20260415T212510Z
UID:8652-1780444800-1784764799@trilithinstitute.org
SUMMARY:Foundations of Filmmaking (VIRTUAL)
DESCRIPTION:When: Wednesdays from 6:00-9:00 pm \, June 3rd – July 22nd \nFoundations of Filmmaking provides foundational knowledge about working conditions\, jobs\, and professional expectations in film and television. Students will learn industry-specific terminology and processes related to above- and below-the-line positions\, how a creative project moves from script to screen\, and how to start and build a film or television career. With an emphasis on industry standards\, practices and procedures\, on-set safety protocols\, and the realities of the job market\, students will be prepared to take further coursework in any number of more focused areas covered in this course. Want to know how a project is made from start to finish? This is the course for you. \nThis class is perfect for anyone with a passion for film and television who is eager to delve into the industry. Whether you are a creative enthusiast\, aspiring filmmaker\, or simply curious about the world of entertainment\, Foundation of Filmmaking is designed to equip you with the essential knowledge and skills to embark on a rewarding career. It is an ideal starting point for individuals looking to grasp industry-specific terminology\, understand the script-to-screen process\, and prepare themselves for various roles within the dynamic film and television field. \nPlease note: students do have graded assignments\, assessments\, and projects and will receive a final grade in this course. Grades demonstrate a student’s ability to apply their understanding and mastery of concepts taught in this course. Trilith Institute instructors have a wealth of knowledge as they come with expertise in the film and entertainment industry \nCourse Note: No Prerequisite Required. \nWHAT YOU WILL WALK AWAY WITH\n\nFundamental knowledge about working conditions\, jobs\, and professional expectations in film and television.\nEligibility to apply for Trilith Institute’s Creative Excellence Fellowship Grant.*\n15% off Trilith Institute workshops for 6 months after course enrollment.\nTour of Trilith Studios
URL:https://trilithinstitute.org/event/foundations-of-filmmaking-virtual/
LOCATION:Virtual
CATEGORIES:8 Week Course,Adult Course,Professional Education,Summer 2026,Virtual
END:VEVENT
END:VCALENDAR